BEGIN:VCALENDAR
VERSION:2.0
PRODID:-//BigBand | Politie | MidWestBand - ECPv6.15.20//NONSGML v1.0//EN
CALSCALE:GREGORIAN
METHOD:PUBLISH
X-WR-CALNAME:BigBand | Politie | MidWestBand
X-ORIGINAL-URL:https://midwestband.nl
X-WR-CALDESC:Evenementen voor BigBand | Politie | MidWestBand
REFRESH-INTERVAL;VALUE=DURATION:PT1H
X-Robots-Tag:noindex
X-PUBLISHED-TTL:PT1H
BEGIN:VTIMEZONE
TZID:Europe/Amsterdam
BEGIN:DAYLIGHT
TZOFFSETFROM:+0100
TZOFFSETTO:+0200
TZNAME:CEST
DTSTART:20230326T010000
END:DAYLIGHT
BEGIN:STANDARD
TZOFFSETFROM:+0200
TZOFFSETTO:+0100
TZNAME:CET
DTSTART:20231029T010000
END:STANDARD
BEGIN:DAYLIGHT
TZOFFSETFROM:+0100
TZOFFSETTO:+0200
TZNAME:CEST
DTSTART:20240331T010000
END:DAYLIGHT
BEGIN:STANDARD
TZOFFSETFROM:+0200
TZOFFSETTO:+0100
TZNAME:CET
DTSTART:20241027T010000
END:STANDARD
BEGIN:DAYLIGHT
TZOFFSETFROM:+0100
TZOFFSETTO:+0200
TZNAME:CEST
DTSTART:20250330T010000
END:DAYLIGHT
BEGIN:STANDARD
TZOFFSETFROM:+0200
TZOFFSETTO:+0100
TZNAME:CET
DTSTART:20251026T010000
END:STANDARD
END:VTIMEZONE
BEGIN:VEVENT
DTSTART;TZID=Europe/Amsterdam:20240305T100000
DTEND;TZID=Europe/Amsterdam:20240305T123000
DTSTAMP:20260419T160046
CREATED:20221116T142458Z
LAST-MODIFIED:20230614T135508Z
UID:1148-1709632800-1709641800@midwestband.nl
SUMMARY:Diploma uitreiking Politie Academie
DESCRIPTION:De studenten van de Politie Academie krijgen hun diploma uitgereikt tijdens een feestelijke bijeenkomst. De Mid West Band verzorgt de muzikale omlijsting
URL:https://midwestband.nl/event/diploma-uitreiking-politie-academie-3/
LOCATION:Theater De Hofnar\, De Hofnar 10\, Valkenswaard\, 5554 DA
END:VEVENT
END:VCALENDAR