BEGIN:VCALENDAR
VERSION:2.0
PRODID:-//BigBand | Politie | MidWestBand - ECPv6.15.20//NONSGML v1.0//EN
CALSCALE:GREGORIAN
METHOD:PUBLISH
X-WR-CALNAME:BigBand | Politie | MidWestBand
X-ORIGINAL-URL:https://midwestband.nl
X-WR-CALDESC:Evenementen voor BigBand | Politie | MidWestBand
REFRESH-INTERVAL;VALUE=DURATION:PT1H
X-Robots-Tag:noindex
X-PUBLISHED-TTL:PT1H
BEGIN:VTIMEZONE
TZID:Europe/Amsterdam
BEGIN:DAYLIGHT
TZOFFSETFROM:+0100
TZOFFSETTO:+0200
TZNAME:CEST
DTSTART:20220327T010000
END:DAYLIGHT
BEGIN:STANDARD
TZOFFSETFROM:+0200
TZOFFSETTO:+0100
TZNAME:CET
DTSTART:20221030T010000
END:STANDARD
BEGIN:DAYLIGHT
TZOFFSETFROM:+0100
TZOFFSETTO:+0200
TZNAME:CEST
DTSTART:20230326T010000
END:DAYLIGHT
BEGIN:STANDARD
TZOFFSETFROM:+0200
TZOFFSETTO:+0100
TZNAME:CET
DTSTART:20231029T010000
END:STANDARD
BEGIN:DAYLIGHT
TZOFFSETFROM:+0100
TZOFFSETTO:+0200
TZNAME:CEST
DTSTART:20240331T010000
END:DAYLIGHT
BEGIN:STANDARD
TZOFFSETFROM:+0200
TZOFFSETTO:+0100
TZNAME:CET
DTSTART:20241027T010000
END:STANDARD
END:VTIMEZONE
BEGIN:VEVENT
DTSTART;TZID=Europe/Amsterdam:20230930T200000
DTEND;TZID=Europe/Amsterdam:20230930T230000
DTSTAMP:20260419T143450
CREATED:20221210T120956Z
LAST-MODIFIED:20221212T223300Z
UID:1974-1696104000-1696114800@midwestband.nl
SUMMARY:Duo concert met zanggroep ExpresZo
DESCRIPTION:De Mid West Band geeft samen met zanggroep ExperesZo een spetterend concert. Zowel de Mid West Band als  ExpresZo zullen eigen stukken spelen maar er zal een ook interessant samenspel tussen de twee clubs onstaan tijdens hun gezamenlijke optreden.
URL:https://midwestband.nl/event/duo-concert-met-zanggroep-expreszo/
LOCATION:MFC de Koppellinck\, Kloosterstraat 4\, Geffen\, 5386AS
END:VEVENT
END:VCALENDAR