BEGIN:VCALENDAR
VERSION:2.0
PRODID:-//BigBand | Politie | MidWestBand - ECPv6.15.20//NONSGML v1.0//EN
CALSCALE:GREGORIAN
METHOD:PUBLISH
X-WR-CALNAME:BigBand | Politie | MidWestBand
X-ORIGINAL-URL:https://midwestband.nl
X-WR-CALDESC:Evenementen voor BigBand | Politie | MidWestBand
REFRESH-INTERVAL;VALUE=DURATION:PT1H
X-Robots-Tag:noindex
X-PUBLISHED-TTL:PT1H
BEGIN:VTIMEZONE
TZID:Europe/Amsterdam
BEGIN:DAYLIGHT
TZOFFSETFROM:+0100
TZOFFSETTO:+0200
TZNAME:CEST
DTSTART:20220327T010000
END:DAYLIGHT
BEGIN:STANDARD
TZOFFSETFROM:+0200
TZOFFSETTO:+0100
TZNAME:CET
DTSTART:20221030T010000
END:STANDARD
BEGIN:DAYLIGHT
TZOFFSETFROM:+0100
TZOFFSETTO:+0200
TZNAME:CEST
DTSTART:20230326T010000
END:DAYLIGHT
BEGIN:STANDARD
TZOFFSETFROM:+0200
TZOFFSETTO:+0100
TZNAME:CET
DTSTART:20231029T010000
END:STANDARD
BEGIN:DAYLIGHT
TZOFFSETFROM:+0100
TZOFFSETTO:+0200
TZNAME:CEST
DTSTART:20240331T010000
END:DAYLIGHT
BEGIN:STANDARD
TZOFFSETFROM:+0200
TZOFFSETTO:+0100
TZNAME:CET
DTSTART:20241027T010000
END:STANDARD
END:VTIMEZONE
BEGIN:VEVENT
DTSTART;TZID=Europe/Amsterdam:20230915T150000
DTEND;TZID=Europe/Amsterdam:20230915T173000
DTSTAMP:20260419T143124
CREATED:20230528T150648Z
LAST-MODIFIED:20230528T151019Z
UID:2587-1694790000-1694799000@midwestband.nl
SUMMARY:Jazz by the Sea
DESCRIPTION:Voor de Mid West Band de eerste keer dat we op dit jaarlijkse festival gaan spelen. Gelukkig heeft de organisatie voldoende middelen kunnen vinden om dit mooie feest door te kunnen laten gaan. \nDe Mid West Band zal op vrijdag 15 september tussen 15.00 en 17.30 het publiek gaan vermaken met onze BigBand muziek. Nu alleen nog hopen op mooi weer en dan gaat het helemaal goed komen.
URL:https://midwestband.nl/event/jazz-by-the-sea/
LOCATION:Hoofdpodium Badhotel Domburg\, DOMBURGSEWEG 1A\, DOMBURG\, 4357 BA
END:VEVENT
END:VCALENDAR