BEGIN:VCALENDAR
VERSION:2.0
PRODID:-//BigBand | Politie | MidWestBand - ECPv6.15.20//NONSGML v1.0//EN
CALSCALE:GREGORIAN
METHOD:PUBLISH
X-WR-CALNAME:BigBand | Politie | MidWestBand
X-ORIGINAL-URL:https://midwestband.nl
X-WR-CALDESC:Evenementen voor BigBand | Politie | MidWestBand
REFRESH-INTERVAL;VALUE=DURATION:PT1H
X-Robots-Tag:noindex
X-PUBLISHED-TTL:PT1H
BEGIN:VTIMEZONE
TZID:Europe/Amsterdam
BEGIN:DAYLIGHT
TZOFFSETFROM:+0100
TZOFFSETTO:+0200
TZNAME:CEST
DTSTART:20240331T010000
END:DAYLIGHT
BEGIN:STANDARD
TZOFFSETFROM:+0200
TZOFFSETTO:+0100
TZNAME:CET
DTSTART:20241027T010000
END:STANDARD
BEGIN:DAYLIGHT
TZOFFSETFROM:+0100
TZOFFSETTO:+0200
TZNAME:CEST
DTSTART:20250330T010000
END:DAYLIGHT
BEGIN:STANDARD
TZOFFSETFROM:+0200
TZOFFSETTO:+0100
TZNAME:CET
DTSTART:20251026T010000
END:STANDARD
BEGIN:DAYLIGHT
TZOFFSETFROM:+0100
TZOFFSETTO:+0200
TZNAME:CEST
DTSTART:20260329T010000
END:DAYLIGHT
BEGIN:STANDARD
TZOFFSETFROM:+0200
TZOFFSETTO:+0100
TZNAME:CET
DTSTART:20261025T010000
END:STANDARD
END:VTIMEZONE
BEGIN:VEVENT
DTSTART;TZID=Europe/Amsterdam:20250315T100000
DTEND;TZID=Europe/Amsterdam:20250315T150000
DTSTAMP:20260419T142911
CREATED:20250210T125612Z
LAST-MODIFIED:20250210T125900Z
UID:3225-1742032800-1742050800@midwestband.nl
SUMMARY:The JazzXperiance
DESCRIPTION:Op zaterdag 15 maart houden we in Paradox Tilburg een Masterclass/workshop onder de titel The JazzXperiance.\nWe hebben daarvoor een Big Band uitgenodigd van jonge muzikanten uit Hilvarenbeek. Onder de naam Bikband timmeren zij al lekker aan de weg en tijdens The JazzXeperiance gaan we samen met hen een muzikale reis maken. We hebben nog geen enkel idee waar de reis heen gaat. Het enige wat zeker is dat het in Paradox zal gaan gebeuren en onze artistieke leider Rob van Reijmersdal zal ons alle gaan verrassen met een aantal stukken die bij geen van de bands op het repertoire staan. Wie op welke positie in de band speelt\, weten we ook nog niet dus het wordt een heerlijk kruisbestuiving van 2 bands en hun muzikanten. We mixen het lekker door elkaar en op het einde van het Masterclass/Workshop gedeelte zullen we de stukken gaan uitvoeren en dan is ook het publiek welkom in Paradox. De richttijd van de finale uitvoering zal 13.30 uur zijn.
URL:https://midwestband.nl/event/the-jazzxperiance/
LOCATION:Paradox\, Telegraafstraat 62\, Tilburg\, 5038 BM
END:VEVENT
END:VCALENDAR