BEGIN:VCALENDAR
VERSION:2.0
PRODID:-//BigBand | Politie | MidWestBand - ECPv6.15.20//NONSGML v1.0//EN
CALSCALE:GREGORIAN
METHOD:PUBLISH
X-WR-CALNAME:BigBand | Politie | MidWestBand
X-ORIGINAL-URL:https://midwestband.nl
X-WR-CALDESC:Evenementen voor BigBand | Politie | MidWestBand
REFRESH-INTERVAL;VALUE=DURATION:PT1H
X-Robots-Tag:noindex
X-PUBLISHED-TTL:PT1H
BEGIN:VTIMEZONE
TZID:Europe/Amsterdam
BEGIN:DAYLIGHT
TZOFFSETFROM:+0100
TZOFFSETTO:+0200
TZNAME:CEST
DTSTART:20210328T010000
END:DAYLIGHT
BEGIN:STANDARD
TZOFFSETFROM:+0200
TZOFFSETTO:+0100
TZNAME:CET
DTSTART:20211031T010000
END:STANDARD
BEGIN:DAYLIGHT
TZOFFSETFROM:+0100
TZOFFSETTO:+0200
TZNAME:CEST
DTSTART:20220327T010000
END:DAYLIGHT
BEGIN:STANDARD
TZOFFSETFROM:+0200
TZOFFSETTO:+0100
TZNAME:CET
DTSTART:20221030T010000
END:STANDARD
BEGIN:DAYLIGHT
TZOFFSETFROM:+0100
TZOFFSETTO:+0200
TZNAME:CEST
DTSTART:20230326T010000
END:DAYLIGHT
BEGIN:STANDARD
TZOFFSETFROM:+0200
TZOFFSETTO:+0100
TZNAME:CET
DTSTART:20231029T010000
END:STANDARD
BEGIN:DAYLIGHT
TZOFFSETFROM:+0100
TZOFFSETTO:+0200
TZNAME:CEST
DTSTART:20240331T010000
END:DAYLIGHT
BEGIN:STANDARD
TZOFFSETFROM:+0200
TZOFFSETTO:+0100
TZNAME:CET
DTSTART:20241027T010000
END:STANDARD
BEGIN:DAYLIGHT
TZOFFSETFROM:+0100
TZOFFSETTO:+0200
TZNAME:CEST
DTSTART:20250330T010000
END:DAYLIGHT
BEGIN:STANDARD
TZOFFSETFROM:+0200
TZOFFSETTO:+0100
TZNAME:CET
DTSTART:20251026T010000
END:STANDARD
BEGIN:DAYLIGHT
TZOFFSETFROM:+0100
TZOFFSETTO:+0200
TZNAME:CEST
DTSTART:20260329T010000
END:DAYLIGHT
BEGIN:STANDARD
TZOFFSETFROM:+0200
TZOFFSETTO:+0100
TZNAME:CET
DTSTART:20261025T010000
END:STANDARD
BEGIN:DAYLIGHT
TZOFFSETFROM:+0100
TZOFFSETTO:+0200
TZNAME:CEST
DTSTART:20270328T010000
END:DAYLIGHT
BEGIN:STANDARD
TZOFFSETFROM:+0200
TZOFFSETTO:+0100
TZNAME:CET
DTSTART:20271031T010000
END:STANDARD
END:VTIMEZONE
BEGIN:VEVENT
DTSTART;TZID=Europe/Amsterdam:20260225T100000
DTEND;TZID=Europe/Amsterdam:20260225T120000
DTSTAMP:20260419T143015
CREATED:20251117T141115Z
LAST-MODIFIED:20251117T141115Z
UID:3238-1772013600-1772020800@midwestband.nl
SUMMARY:Diploma uitreiking studenten Politie Academie
DESCRIPTION:De studenten van de Politie Academie krijgen hun verdiende diploma uitgereikt. De Mid West Band zorgt voor de feestelijke ondersteuning van dit mooie moment in hun carrière 
URL:https://midwestband.nl/event/diploma-uitreiking-studenten-politie-academie-3/
LOCATION:Theater De Hofnar\, De Hofnar 10\, Valkenswaard\, 5554 DA
END:VEVENT
BEGIN:VEVENT
DTSTART;TZID=Europe/Amsterdam:20260118T150000
DTEND;TZID=Europe/Amsterdam:20260118T173000
DTSTAMP:20260419T143015
CREATED:20251117T135932Z
LAST-MODIFIED:20251117T135932Z
UID:3235-1768748400-1768757400@midwestband.nl
SUMMARY:Big Band Battle
DESCRIPTION:Op zondag middag 18 januari 2026 houden in ons eigen Paradox Tilburg weer een Big Band Battle.\nDit jaar hebben we de BigBand Ravenstein bereid gevonden om het odium met ons te delen. Dat beloofd ook weer een interessante middag te worden dus maak snel een plekje vrij in je agenda.\nZoals altijd is ook deze BigBandBattle weer met gratis toegang. \nDe deuren gaan open om 14.30 uur  \nStart van de show 15.00 uur
URL:https://midwestband.nl/event/big-band-battle/
LOCATION:Paradox\, Telegraafstraat 62\, Tilburg\, 5038 BM
END:VEVENT
BEGIN:VEVENT
DTSTART;TZID=Europe/Amsterdam:20250919T100000
DTEND;TZID=Europe/Amsterdam:20250919T120000
DTSTAMP:20260419T143015
CREATED:20241107T101425Z
LAST-MODIFIED:20241107T101425Z
UID:3082-1758276000-1758283200@midwestband.nl
SUMMARY:Diploma uitreiking studenten Politie Academie
DESCRIPTION:De studenten van de Politie Academie krijgen hun verdiende diploma uitgereikt. De Mid West Band zorgt voor de feestelijke ondersteuning van dit mooie moment in hun carrière 
URL:https://midwestband.nl/event/diploma-uitreiking-studenten-politie-academie-2/
LOCATION:Theater De Hofnar\, De Hofnar 10\, Valkenswaard\, 5554 DA
END:VEVENT
BEGIN:VEVENT
DTSTART;TZID=Europe/Amsterdam:20250315T100000
DTEND;TZID=Europe/Amsterdam:20250315T150000
DTSTAMP:20260419T143015
CREATED:20250210T125612Z
LAST-MODIFIED:20250210T125900Z
UID:3225-1742032800-1742050800@midwestband.nl
SUMMARY:The JazzXperiance
DESCRIPTION:Op zaterdag 15 maart houden we in Paradox Tilburg een Masterclass/workshop onder de titel The JazzXperiance.\nWe hebben daarvoor een Big Band uitgenodigd van jonge muzikanten uit Hilvarenbeek. Onder de naam Bikband timmeren zij al lekker aan de weg en tijdens The JazzXeperiance gaan we samen met hen een muzikale reis maken. We hebben nog geen enkel idee waar de reis heen gaat. Het enige wat zeker is dat het in Paradox zal gaan gebeuren en onze artistieke leider Rob van Reijmersdal zal ons alle gaan verrassen met een aantal stukken die bij geen van de bands op het repertoire staan. Wie op welke positie in de band speelt\, weten we ook nog niet dus het wordt een heerlijk kruisbestuiving van 2 bands en hun muzikanten. We mixen het lekker door elkaar en op het einde van het Masterclass/Workshop gedeelte zullen we de stukken gaan uitvoeren en dan is ook het publiek welkom in Paradox. De richttijd van de finale uitvoering zal 13.30 uur zijn.
URL:https://midwestband.nl/event/the-jazzxperiance/
LOCATION:Paradox\, Telegraafstraat 62\, Tilburg\, 5038 BM
END:VEVENT
BEGIN:VEVENT
DTSTART;TZID=Europe/Amsterdam:20250307T100000
DTEND;TZID=Europe/Amsterdam:20250307T120000
DTSTAMP:20260419T143015
CREATED:20241107T101252Z
LAST-MODIFIED:20241107T101502Z
UID:3079-1741341600-1741348800@midwestband.nl
SUMMARY:Diploma uitreiking studenten Politie Academie
DESCRIPTION:De studenten van de Politie Academie krijgen hun verdiende diploma uitgereikt. De Mid West Band zorgt voor de feestelijke ondersteuning van dit mooie moment in hun carrière 
URL:https://midwestband.nl/event/diploma-uitreiking-politie-academie-4/
LOCATION:Theater De Hofnar\, De Hofnar 10\, Valkenswaard\, 5554 DA
END:VEVENT
BEGIN:VEVENT
DTSTART;TZID=Europe/Amsterdam:20241215T143000
DTEND;TZID=Europe/Amsterdam:20241215T173000
DTSTAMP:20260419T143015
CREATED:20241107T102234Z
LAST-MODIFIED:20241112T194157Z
UID:3085-1734273000-1734283800@midwestband.nl
SUMMARY:Big Band Battle met The River AA Big Band
DESCRIPTION:Elk jaar nodigt de Mid West Band een collega BigBand uit om samen een heerlijke middag te verzorgen in het thuishonk van de Mid West Band\, Jazzpodium Paradox in Tilburg. \nDit jaar gaan we deze samenwerking aan met The River AA Big Band  \nHet belooft weer een mooie middag te worden. De toegang is gratis. \nDeuren open om 14.30 \nAanvang show 15.00
URL:https://midwestband.nl/event/big-band-battle-met-the-river-aa-big-band/
LOCATION:Paradox\, Telegraafstraat 62\, Tilburg\, 5038 BM
END:VEVENT
BEGIN:VEVENT
DTSTART;TZID=Europe/Amsterdam:20240920T100000
DTEND;TZID=Europe/Amsterdam:20240920T120000
DTSTAMP:20260419T143015
CREATED:20230614T135710Z
LAST-MODIFIED:20230614T135710Z
UID:2595-1726826400-1726833600@midwestband.nl
SUMMARY:Diploma uitreiking Studenten Politie Academie
DESCRIPTION:De studenten van de Politie Academie krijgen hun diploma uitgereikt tijdens een feestelijke bijeenkomst. De Mid West Band verzorgt de muzikale omlijsting
URL:https://midwestband.nl/event/diploma-uitreiking-studenten-politie-academie/
LOCATION:Theater De Hofnar\, De Hofnar 10\, Valkenswaard\, 5554 DA
END:VEVENT
BEGIN:VEVENT
DTSTART;TZID=Europe/Amsterdam:20240616T150000
DTEND;TZID=Europe/Amsterdam:20240616T170000
DTSTAMP:20260419T143015
CREATED:20240108T123140Z
LAST-MODIFIED:20240108T124033Z
UID:2788-1718550000-1718557200@midwestband.nl
SUMMARY:Jazz op het Lindeplein
DESCRIPTION:De Budding Sound BigBand organiseert jaarlijks een jazz festival op het Lindeplein in Oisterwijk. Dit jaar zal ook de Mid West Band daar medewerking aan verlenen. Een prima gelegenheid om de bevolking van Oisterwijk kennis te katen maken met de Politie BigBand. Op dit moment zijn de speeltijden nog niet bekend maar daarover later meer
URL:https://midwestband.nl/event/jazz-op-het-lindeplein/
LOCATION:Lindeplein Oisterwijk\, Lindeplein\, Oisterwijk\, 5061HN
END:VEVENT
BEGIN:VEVENT
DTSTART;TZID=Europe/Amsterdam:20240517T153000
DTEND;TZID=Europe/Amsterdam:20240517T163000
DTSTAMP:20260419T143015
CREATED:20240502T124757Z
LAST-MODIFIED:20240502T124757Z
UID:3061-1715959800-1715963400@midwestband.nl
SUMMARY:Beëdiging Orkestlid
DESCRIPTION:Op vrijdagmiddag 17 mei 2024 zal één van onze orkestleden beëdigd gaan worden tijdens een klein concert dat we speciaal voor die gelegenheid geven. Toegang is uitsluitend op uitnodiging 
URL:https://midwestband.nl/event/beediging-orkestlid/
LOCATION:Paradox\, Telegraafstraat 62\, Tilburg\, 5038 BM
END:VEVENT
BEGIN:VEVENT
DTSTART;TZID=Europe/Amsterdam:20240512T130000
DTEND;TZID=Europe/Amsterdam:20240512T150000
DTSTAMP:20260419T143015
CREATED:20240116T102353Z
LAST-MODIFIED:20240116T102353Z
UID:2926-1715518800-1715526000@midwestband.nl
SUMMARY:Jazz Festival Breda
DESCRIPTION:Het Jazz Festival in Breda stond al heel lang op ons wensenlijstje. Voor 2024 is het ons gelukt om daar te mogen spelen. Super fijn dat we gevraagd zijn om op het hoofdpodium aan het Spanjaardsgat in Breda maar liefst 2 uur te spelen. Op de zondagmiddag van 13.00 uur tot 15.00 zijn we daar te zien en te horen.. 
URL:https://midwestband.nl/event/jazz-festival-breda/
LOCATION:Hoofdpodium Winters podium – Spanjaardsgat\, Kasteelplein Spanjaardsgat\, Breda\, 4811 VC
END:VEVENT
BEGIN:VEVENT
DTSTART;TZID=Europe/Amsterdam:20240427T130000
DTEND;TZID=Europe/Amsterdam:20240427T170000
DTSTAMP:20260419T143015
CREATED:20240123T114635Z
LAST-MODIFIED:20240123T131652Z
UID:2932-1714222800-1714237200@midwestband.nl
SUMMARY:Koningsdag Leijparkfestival
DESCRIPTION:Op zaterdag 27 april 2024 spelen we tijdens het Leijparkfestival in Tilburg.  \nHet Oranje committee heeft ons uitgenodigd om dit jaar een van de twee acts te zijn op het hoofdpodium in het Leijpark in Tilburg. Elk jaar is dat festivalk met Koningsdag een druk bezocht evenement en wij zijn dan ook blij dat we weer eens een groot publiekelijk optreden in “Hometown” Tilburg hebben. Tussen 13.00 uur en 17.00 uur zullen we drie keer een set van ongeveer 45 minuten spelen. Dat geeft het publiek een kans om een mooie inkijk in ons repertoire te hebben. Wij hebben er zin in en hopen dat de weergoden goed gestemd zullen zijn en iedereen van een mooie middag kan gaan genieten
URL:https://midwestband.nl/event/koningsdag-leijparkfestival/
LOCATION:Leijpark Tilburg\, Professor van Buchemlaan\, Tilburg\, 5022 AX
END:VEVENT
BEGIN:VEVENT
DTSTART;TZID=Europe/Amsterdam:20240323T200000
DTEND;TZID=Europe/Amsterdam:20240323T230000
DTSTAMP:20260419T143015
CREATED:20221214T182529Z
LAST-MODIFIED:20230130T211134Z
UID:2312-1711224000-1711234800@midwestband.nl
SUMMARY:Duo concert met Andantino
DESCRIPTION:Samen met het Koor Andantino uit Udenhout zal de Mid West Band een duo concert verzorgen. Het wordt een echt duo concert en zowel Andantino als de Mid West band zullen een stuk van het programma verzorgen\, afgesloten met een  interessant gezamenlijk optreden.
URL:https://midwestband.nl/event/duo-concert-met-andantino/
LOCATION:’t Plein\, Tongerloplein 1\, Udenhout\, 5071CX
END:VEVENT
BEGIN:VEVENT
DTSTART;TZID=Europe/Amsterdam:20240305T100000
DTEND;TZID=Europe/Amsterdam:20240305T123000
DTSTAMP:20260419T143015
CREATED:20221116T142458Z
LAST-MODIFIED:20230614T135508Z
UID:1148-1709632800-1709641800@midwestband.nl
SUMMARY:Diploma uitreiking Politie Academie
DESCRIPTION:De studenten van de Politie Academie krijgen hun diploma uitgereikt tijdens een feestelijke bijeenkomst. De Mid West Band verzorgt de muzikale omlijsting
URL:https://midwestband.nl/event/diploma-uitreiking-politie-academie-3/
LOCATION:Theater De Hofnar\, De Hofnar 10\, Valkenswaard\, 5554 DA
END:VEVENT
BEGIN:VEVENT
DTSTART;TZID=Europe/Amsterdam:20231126T150000
DTEND;TZID=Europe/Amsterdam:20231126T170000
DTSTAMP:20260419T143015
CREATED:20230323T152129Z
LAST-MODIFIED:20230323T152135Z
UID:2492-1701010800-1701018000@midwestband.nl
SUMMARY:Big Band Battle met Buddingsound BigBand
DESCRIPTION:
URL:https://midwestband.nl/event/big-band-battle-met-buddingsound-bigband/
LOCATION:Paradox\, Telegraafstraat 62\, Tilburg\, 5038 BM
END:VEVENT
BEGIN:VEVENT
DTSTART;TZID=Europe/Amsterdam:20230930T200000
DTEND;TZID=Europe/Amsterdam:20230930T230000
DTSTAMP:20260419T143015
CREATED:20221210T120956Z
LAST-MODIFIED:20221212T223300Z
UID:1974-1696104000-1696114800@midwestband.nl
SUMMARY:Duo concert met zanggroep ExpresZo
DESCRIPTION:De Mid West Band geeft samen met zanggroep ExperesZo een spetterend concert. Zowel de Mid West Band als  ExpresZo zullen eigen stukken spelen maar er zal een ook interessant samenspel tussen de twee clubs onstaan tijdens hun gezamenlijke optreden.
URL:https://midwestband.nl/event/duo-concert-met-zanggroep-expreszo/
LOCATION:MFC de Koppellinck\, Kloosterstraat 4\, Geffen\, 5386AS
END:VEVENT
BEGIN:VEVENT
DTSTART;TZID=Europe/Amsterdam:20230915T150000
DTEND;TZID=Europe/Amsterdam:20230915T173000
DTSTAMP:20260419T143015
CREATED:20230528T150648Z
LAST-MODIFIED:20230528T151019Z
UID:2587-1694790000-1694799000@midwestband.nl
SUMMARY:Jazz by the Sea
DESCRIPTION:Voor de Mid West Band de eerste keer dat we op dit jaarlijkse festival gaan spelen. Gelukkig heeft de organisatie voldoende middelen kunnen vinden om dit mooie feest door te kunnen laten gaan. \nDe Mid West Band zal op vrijdag 15 september tussen 15.00 en 17.30 het publiek gaan vermaken met onze BigBand muziek. Nu alleen nog hopen op mooi weer en dan gaat het helemaal goed komen.
URL:https://midwestband.nl/event/jazz-by-the-sea/
LOCATION:Hoofdpodium Badhotel Domburg\, DOMBURGSEWEG 1A\, DOMBURG\, 4357 BA
END:VEVENT
BEGIN:VEVENT
DTSTART;TZID=Europe/Amsterdam:20230608T100000
DTEND;TZID=Europe/Amsterdam:20230608T123000
DTSTAMP:20260419T143015
CREATED:20221115T140000Z
LAST-MODIFIED:20221212T222733Z
UID:1101-1686218400-1686227400@midwestband.nl
SUMMARY:Diploma uitreiking Politie Academie
DESCRIPTION:De studenten van de Politie Academie krijgen hun diploma uitgereikt tijdens een feestelijke bijeenkomst. De Mid West Band verzorgt de muzikale omlijsting
URL:https://midwestband.nl/event/diploma-uitreiking-politie-academie-2/
LOCATION:Theater De Hofnar\, De Hofnar 10\, Valkenswaard\, 5554 DA
END:VEVENT
BEGIN:VEVENT
DTSTART;TZID=Europe/Amsterdam:20230603T150000
DTEND;TZID=Europe/Amsterdam:20230603T170000
DTSTAMP:20260419T143015
CREATED:20230130T203036Z
LAST-MODIFIED:20230130T211426Z
UID:2422-1685804400-1685811600@midwestband.nl
SUMMARY:Jubileumconcert Mid West Band
DESCRIPTION:In 2022 bestond Politiemuziek in de stad Tilburg 95 jaar. Het toen geplande concert kon vanwege de weersomstandigheden niet doorgaan. Nu in de herkansing. De Mid West Band geeft een gezellig concert op het mooie terras van de Roovertsche Leij. Je bent van harte welkom.
URL:https://midwestband.nl/event/jubileumconcert-mid-west-band/
LOCATION:Roovertsche Leij\, Gorps Baantje 1\, Goirle\, 5051 PX
END:VEVENT
BEGIN:VEVENT
DTSTART;TZID=Europe/Amsterdam:20230113T100000
DTEND;TZID=Europe/Amsterdam:20230113T123000
DTSTAMP:20260419T143015
CREATED:20221115T134159Z
LAST-MODIFIED:20221212T222813Z
UID:1090-1673604000-1673613000@midwestband.nl
SUMMARY:Diploma uitreiking Politie Academie
DESCRIPTION:De studenten van de Politie Academie krijgen hun diploma uitgereikt tijdens een feestelijke bijeenkomst. De Mid West Band verzorgt de muzikale omlijsting
URL:https://midwestband.nl/event/diploma-uitreiking-politie-academie/
LOCATION:Effenaar\, Dommelstraat 2\, Eindhoven\, 5611 CK
END:VEVENT
BEGIN:VEVENT
DTSTART;TZID=Europe/Amsterdam:20221106T150000
DTEND;TZID=Europe/Amsterdam:20221106T180000
DTSTAMP:20260419T143015
CREATED:20221116T142923Z
LAST-MODIFIED:20221212T222846Z
UID:1150-1667746800-1667757600@midwestband.nl
SUMMARY:BigBand Batlle met Ley River BigBand
DESCRIPTION:Een duo concert met de Leij River BigBand uit Goirle
URL:https://midwestband.nl/event/bigband-batlle-met-leij-river-bigband/
LOCATION:Paradox\, Telegraafstraat 62\, Tilburg\, 5038 BM
END:VEVENT
BEGIN:VEVENT
DTSTART;TZID=Europe/Amsterdam:20220702T150000
DTEND;TZID=Europe/Amsterdam:20220702T171500
DTSTAMP:20260419T143015
CREATED:20221214T183154Z
LAST-MODIFIED:20221214T183154Z
UID:2316-1656774000-1656782100@midwestband.nl
SUMMARY:T'Plein Geluiden
DESCRIPTION:De Mid West Band is te gast op het Tongerloplein in Roosendaal waar we in het kader van de buiten concerten een optreden verzorgen
URL:https://midwestband.nl/event/tplein-geluiden/
LOCATION:T’Plein Geluiden\, Tongerloplein\, Roosendaal
END:VEVENT
END:VCALENDAR